BEGIN:VCALENDAR
VERSION:2.0
PRODID:-//InStaff und Jobs GmbH
BEGIN:VEVENT
UID:b177d737b303dd8879c0a2941a2504b1@instaff.jobs
DTSTAMP:20260425T104236Z
LOCATION:Messe Berlin\, Messedamm 22\, 14055 Berlin\, Deutschland
DTSTART;TZID=Europe/Brussels:20180515T070000Z
DTEND;TZID=Europe/Brussels:20180518T160000Z
SUMMARY:FESPA
DESCRIPTION:https://www.google.com/maps/search/?api=1&query=Messe+Berlin%2C+Messedamm+22%2C+14055+Berlin%2C+Deutschland
END:VEVENT
END:VCALENDAR