BEGIN:VCALENDAR
VERSION:2.0
PRODID:-//InStaff und Jobs GmbH
BEGIN:VEVENT
UID:a376a2da24703e7bb3eee06433ee3599@instaff.jobs
DTSTAMP:20260425T104415Z
LOCATION:Estrel Congress Center\, Sonnenallee 225\, 12057 Berlin
DTSTART;TZID=Europe/Brussels:20181206T070000Z
DTEND;TZID=Europe/Brussels:20190105T160000Z
SUMMARY:Hochzeitsmesse in Estrel 2019
DESCRIPTION:https://www.google.com/maps/search/?api=1&query=Estrel+Congress+Center%2C+Sonnenallee+225%2C+12057+Berlin
END:VEVENT
END:VCALENDAR