BEGIN:VCALENDAR
VERSION:2.0
PRODID:-//InStaff und Jobs GmbH
BEGIN:VEVENT
UID:ecf8564175776ae62e6b1d68b66fea4b@instaff.jobs
DTSTAMP:20260425T103123Z
LOCATION:Messe Berlin\, Messedamm 22\, 14055 Berlin
DTSTART;TZID=Europe/Brussels:20180831T070000Z
DTEND;TZID=Europe/Brussels:20180905T160000Z
SUMMARY:IFA
DESCRIPTION:https://www.google.com/maps/search/?api=1&query=Messe+Berlin%2C+Messedamm+22%2C+14055+Berlin
END:VEVENT
END:VCALENDAR