BEGIN:VCALENDAR
VERSION:2.0
PRODID:-//InStaff und Jobs GmbH
BEGIN:VEVENT
UID:284d5e7ea796fa4f298fedeffa778eaa@instaff.jobs
DTSTAMP:20260425T104332Z
LOCATION:Hotel Palace\, Budapester Strasse 45\, 10787 Berlin
DTSTART;TZID=Europe/Brussels:20180926T070000Z
DTEND;TZID=Europe/Brussels:20180928T160000Z
SUMMARY:International Electronics Recycling Congress
DESCRIPTION:https://www.google.com/maps/search/?api=1&query=Hotel+Palace%2C+Budapester+Strasse+45%2C+10787+Berlin
END:VEVENT
END:VCALENDAR