BEGIN:VCALENDAR
VERSION:2.0
PRODID:-//InStaff und Jobs GmbH
BEGIN:VEVENT
UID:2220aff9dcc8ac6e07ac61c247431c3a@instaff.jobs
DTSTAMP:20260425T104154Z
LOCATION:
DTSTART;TZID=Europe/Brussels:20181006T070000Z
DTEND;TZID=Europe/Brussels:20181007T160000Z
SUMMARY:Jobmesse
DESCRIPTION:
END:VEVENT
END:VCALENDAR