BEGIN:VCALENDAR
VERSION:2.0
PRODID:-//InStaff und Jobs GmbH
BEGIN:VEVENT
UID:f2efe1984aae80d631fdf57aede82b21@instaff.jobs
DTSTAMP:20260425T104332Z
LOCATION:Estrel Berlin\, Sonnenallee 225\, 12057 Berlin
DTSTART;TZID=Europe/Brussels:20180703T070000Z
DTEND;TZID=Europe/Brussels:20180704T160000Z
SUMMARY:K5 2018 - The Future Retail Conference
DESCRIPTION:https://www.google.com/maps/search/?api=1&query=Estrel+Berlin%2C+Sonnenallee+225%2C+12057+Berlin
END:VEVENT
END:VCALENDAR