BEGIN:VCALENDAR
VERSION:2.0
PRODID:-//InStaff und Jobs GmbH
BEGIN:VEVENT
UID:d891b94faac5ccb941711a56f0b8ab7b@instaff.jobs
DTSTAMP:20260425T104422Z
LOCATION:Messe Essen\, Messeplatz 1\, 45131 Essen
DTSTART;TZID=Europe/Brussels:20180420T070000Z
DTEND;TZID=Europe/Brussels:20180422T160000Z
SUMMARY:Babywelt Rhein-Ruhr
DESCRIPTION:https://www.google.com/maps/search/?api=1&query=Messe+Essen%2C+Messeplatz+1%2C+45131+Essen
END:VEVENT
END:VCALENDAR