BEGIN:VCALENDAR
VERSION:2.0
PRODID:-//InStaff und Jobs GmbH
BEGIN:VEVENT
UID:a778b48e829f93e4926642fa6c51a097@instaff.jobs
DTSTAMP:20260425T104422Z
LOCATION:Messe Essen\, Messeplatz 1\, 45131 Essen
DTSTART;TZID=Europe/Brussels:20180414T070000Z
DTEND;TZID=Europe/Brussels:20180416T160000Z
SUMMARY:European Bridal Week 2018 in Essen
DESCRIPTION:https://www.google.com/maps/search/?api=1&query=Messe+Essen%2C+Messeplatz+1%2C+45131+Essen
END:VEVENT
END:VCALENDAR