BEGIN:VCALENDAR
VERSION:2.0
PRODID:-//InStaff und Jobs GmbH
BEGIN:VEVENT
UID:89049f1891a60526217bcd1ccb980557@instaff.jobs
DTSTAMP:20260424T110339Z
LOCATION:Messe Essen\, Messeplatz 1\, 45131 Essen
DTSTART;TZID=Europe/Brussels:20180123T070000Z
DTEND;TZID=Europe/Brussels:20180126T160000Z
SUMMARY:IPM 2018 in Essen
DESCRIPTION:https://www.google.com/maps/search/?api=1&query=Messe+Essen%2C+Messeplatz+1%2C+45131+Essen
END:VEVENT
END:VCALENDAR