BEGIN:VCALENDAR
VERSION:2.0
PRODID:-//InStaff und Jobs GmbH
BEGIN:VEVENT
UID:f4d7269281bb919d2fdc7ac5e9d3d289@instaff.jobs
DTSTAMP:20260424T083828Z
LOCATION:Messe Essen\, Messeplatz 1\, 45131 Essen
DTSTART;TZID=Europe/Brussels:20180110T070000Z
DTEND;TZID=Europe/Brussels:20180113T160000Z
SUMMARY:DeubauKOM
DESCRIPTION:https://www.google.com/maps/search/?api=1&query=Messe+Essen%2C+Messeplatz+1%2C+45131+Essen
END:VEVENT
BEGIN:VEVENT
UID:e01fa4d217479046d196daa78a69b1c6@instaff.jobs
DTSTAMP:20260424T083828Z
LOCATION:Messe Essen\, Messeplatz 1\, 45131 Essen
DTSTART;TZID=Europe/Brussels:20180123T070000Z
DTEND;TZID=Europe/Brussels:20180126T160000Z
SUMMARY:IPM 2018 in Essen
DESCRIPTION:https://www.google.com/maps/search/?api=1&query=Messe+Essen%2C+Messeplatz+1%2C+45131+Essen
END:VEVENT
BEGIN:VEVENT
UID:fcd836c2c365b0c76cf1d867a5b976f0@instaff.jobs
DTSTAMP:20260424T083828Z
LOCATION:Messe Essen\, Messeplatz 1\, 45131 Essen
DTSTART;TZID=Europe/Brussels:20180206T070000Z
DTEND;TZID=Europe/Brussels:20180208T160000Z
SUMMARY:E-world energy & water 2018 in Essen
DESCRIPTION:https://www.google.com/maps/search/?api=1&query=Messe+Essen%2C+Messeplatz+1%2C+45131+Essen
END:VEVENT
BEGIN:VEVENT
UID:818db15b9b5e05d1b9515f338516a1c1@instaff.jobs
DTSTAMP:20260424T083828Z
LOCATION:Messe Essen\, Messeplatz 1\, 45131 Essen
DTSTART;TZID=Europe/Brussels:20180221T070000Z
DTEND;TZID=Europe/Brussels:20180225T160000Z
SUMMARY:Reisen + Camping 2018 in Essen
DESCRIPTION:https://www.google.com/maps/search/?api=1&query=Messe+Essen%2C+Messeplatz+1%2C+45131+Essen
END:VEVENT
BEGIN:VEVENT
UID:e8c3df2e12a0c132ee7708970936af91@instaff.jobs
DTSTAMP:20260424T083828Z
LOCATION:Messe Essen\, Messeplatz 1\, 45131 Essen
DTSTART;TZID=Europe/Brussels:20180306T070000Z
DTEND;TZID=Europe/Brussels:20180309T160000Z
SUMMARY:SHK ESSEN 2018 in Essen
DESCRIPTION:https://www.google.com/maps/search/?api=1&query=Messe+Essen%2C+Messeplatz+1%2C+45131+Essen
END:VEVENT
BEGIN:VEVENT
UID:2d0a1c29b879e3bb91ab283c269614b2@instaff.jobs
DTSTAMP:20260424T083828Z
LOCATION:Messe Essen\, Messeplatz 1\, 45131 Essen
DTSTART;TZID=Europe/Brussels:20180321T070000Z
DTEND;TZID=Europe/Brussels:20180325T160000Z
SUMMARY:Techno Classica 2018 in Essen
DESCRIPTION:https://www.google.com/maps/search/?api=1&query=Messe+Essen%2C+Messeplatz+1%2C+45131+Essen
END:VEVENT
BEGIN:VEVENT
UID:549fe36e6fa80de1e55708e4de6cad36@instaff.jobs
DTSTAMP:20260424T083828Z
LOCATION:Messe Essen\, Messeplatz 1\, 45131 Essen
DTSTART;TZID=Europe/Brussels:20180414T070000Z
DTEND;TZID=Europe/Brussels:20180416T160000Z
SUMMARY:European Bridal Week 2018 in Essen
DESCRIPTION:https://www.google.com/maps/search/?api=1&query=Messe+Essen%2C+Messeplatz+1%2C+45131+Essen
END:VEVENT
BEGIN:VEVENT
UID:59e5ce01dcd29c5c4a7348cf2e807963@instaff.jobs
DTSTAMP:20260424T083828Z
LOCATION:Messe Essen\, Messeplatz 1\, 45131 Essen
DTSTART;TZID=Europe/Brussels:20180420T070000Z
DTEND;TZID=Europe/Brussels:20180422T160000Z
SUMMARY:Babywelt Rhein-Ruhr
DESCRIPTION:https://www.google.com/maps/search/?api=1&query=Messe+Essen%2C+Messeplatz+1%2C+45131+Essen
END:VEVENT
BEGIN:VEVENT
UID:497c7a101b9a48a12391be88874516ea@instaff.jobs
DTSTAMP:20260424T083828Z
LOCATION:Messe Essen\, Messeplatz 1\, 45131 Essen
DTSTART;TZID=Europe/Brussels:20180911T070000Z
DTEND;TZID=Europe/Brussels:20180915T160000Z
SUMMARY:Reifen
DESCRIPTION:https://www.google.com/maps/search/?api=1&query=Messe+Essen%2C+Messeplatz+1%2C+45131+Essen
END:VEVENT
BEGIN:VEVENT
UID:9b8c42c05853ae838b838806d4ada28c@instaff.jobs
DTSTAMP:20260424T083828Z
LOCATION:Messe Essen\, Messeplatz 1\, 45131 Essen
DTSTART;TZID=Europe/Brussels:20180925T070000Z
DTEND;TZID=Europe/Brussels:20180928T160000Z
SUMMARY:Security Essen
DESCRIPTION:https://www.google.com/maps/search/?api=1&query=Messe+Essen%2C+Messeplatz+1%2C+45131+Essen
END:VEVENT
BEGIN:VEVENT
UID:fa15bcd2c6245c8303ad9a2b39ed8bf1@instaff.jobs
DTSTAMP:20260424T083828Z
LOCATION:Messe Essen\, Messeplatz 1\, 45131 Essen
DTSTART;TZID=Europe/Brussels:20181025T070000Z
DTEND;TZID=Europe/Brussels:20181028T160000Z
SUMMARY:Spiel '18
DESCRIPTION:https://www.google.com/maps/search/?api=1&query=Messe+Essen%2C+Messeplatz+1%2C+45131+Essen
END:VEVENT
BEGIN:VEVENT
UID:58588297585dda25f7c8b62b4e2ccb36@instaff.jobs
DTSTAMP:20260424T083828Z
LOCATION:Messe Essen\, Messeplatz 1\, 45131 Essen
DTSTART;TZID=Europe/Brussels:20181110T070000Z
DTEND;TZID=Europe/Brussels:20181118T160000Z
SUMMARY:Mode Heim Handwerk 2018
DESCRIPTION:https://www.google.com/maps/search/?api=1&query=Messe+Essen%2C+Messeplatz+1%2C+45131+Essen
END:VEVENT
BEGIN:VEVENT
UID:ff394ad1245a36fbefb450cdbb2743b1@instaff.jobs
DTSTAMP:20260424T083828Z
LOCATION:Messe Essen\, Messeplatz 1\, 45131 Essen
DTSTART;TZID=Europe/Brussels:20181201T070000Z
DTEND;TZID=Europe/Brussels:20181209T160000Z
SUMMARY:Essen Motor Show 2018
DESCRIPTION:https://www.google.com/maps/search/?api=1&query=Messe+Essen%2C+Messeplatz+1%2C+45131+Essen
END:VEVENT
END:VCALENDAR