BEGIN:VCALENDAR
VERSION:2.0
PRODID:-//InStaff und Jobs GmbH
BEGIN:VEVENT
UID:e47ddd424ecd04122bdb81df66a3625a@instaff.jobs
DTSTAMP:20260419T205532Z
LOCATION:Messe Frankfurt\, Ludwig-Erhard-Anlage 1\, 60327 Frankfurt
DTSTART;TZID=Europe/Brussels:20180611T070000Z
DTEND;TZID=Europe/Brussels:20180615T160000Z
SUMMARY:ACHEMA 2018
DESCRIPTION:https://www.google.com/maps/search/?api=1&query=Messe+Frankfurt%2C+Ludwig-Erhard-Anlage+1%2C+60327+Frankfurt
END:VEVENT
END:VCALENDAR