BEGIN:VCALENDAR
VERSION:2.0
PRODID:-//InStaff und Jobs GmbH
BEGIN:VEVENT
UID:d63a81e6a08cc2ecd59894a7f0f33f27@instaff.jobs
DTSTAMP:20260419T205312Z
LOCATION:Messe Frankfurt\, Ludwig-Erhard-Anlage 1\, 60327 Frankfurt am Main
DTSTART;TZID=Europe/Brussels:20181010T070000Z
DTEND;TZID=Europe/Brussels:20181014T160000Z
SUMMARY:Frankfurter Buchmesse
DESCRIPTION:https://www.google.com/maps/search/?api=1&query=Messe+Frankfurt%2C+Ludwig-Erhard-Anlage+1%2C+60327+Frankfurt+am+Main
END:VEVENT
END:VCALENDAR