BEGIN:VCALENDAR
VERSION:2.0
PRODID:-//InStaff und Jobs GmbH
BEGIN:VEVENT
UID:410dc3cd42a204032739d82ace3894cd@instaff.jobs
DTSTAMP:20260419T205216Z
LOCATION:Messe Frankfurt\, Ludwig-Erhard-Anlage 1\, 60327 Frankfurt am Main
DTSTART;TZID=Europe/Brussels:20180227T070000Z
DTEND;TZID=Europe/Brussels:20180301T160000Z
SUMMARY:INservFM 2018 in Frankfurt
DESCRIPTION:https://www.google.com/maps/search/?api=1&query=Messe+Frankfurt%2C+Ludwig-Erhard-Anlage+1%2C+60327+Frankfurt+am+Main
END:VEVENT
END:VCALENDAR