BEGIN:VCALENDAR
VERSION:2.0
PRODID:-//InStaff und Jobs GmbH
BEGIN:VEVENT
UID:3b4c929bcfc3eaf755018fdb256d2684@instaff.jobs
DTSTAMP:20260419T204851Z
LOCATION:Messe Frankfurt\, Ludwig-Erhard-Anlage 1\, 60327 Frankfurt am Main
DTSTART;TZID=Europe/Brussels:20181016T070000Z
DTEND;TZID=Europe/Brussels:20181018T160000Z
SUMMARY:INTERGEO 2018 in Frankfurt
DESCRIPTION:https://www.google.com/maps/search/?api=1&query=Messe+Frankfurt%2C+Ludwig-Erhard-Anlage+1%2C+60327+Frankfurt+am+Main
END:VEVENT
END:VCALENDAR