BEGIN:VCALENDAR
VERSION:2.0
PRODID:-//InStaff und Jobs GmbH
BEGIN:VEVENT
UID:fc2aa25826b881ab9823416633d8de26@instaff.jobs
DTSTAMP:20260419T205216Z
LOCATION:Messe Friedrichshafen\, Neue Messe 1\, 88046 Friedrichshafen
DTSTART;TZID=Europe/Brussels:20180708T070000Z
DTEND;TZID=Europe/Brussels:20180710T160000Z
SUMMARY:Eurobike 2018 in Friedrichshafen
DESCRIPTION:https://www.google.com/maps/search/?api=1&query=Messe+Friedrichshafen%2C+Neue+Messe+1%2C+88046+Friedrichshafen
END:VEVENT
END:VCALENDAR