BEGIN:VCALENDAR
VERSION:2.0
PRODID:-//InStaff und Jobs GmbH
BEGIN:VEVENT
UID:870a2f32780f6b658cd41718e8d33e08@instaff.jobs
DTSTAMP:20260425T103239Z
LOCATION:Köln Messe\, Messeplatz 1\, 50679 Köln
DTSTART;TZID=Europe/Brussels:20180412T070000Z
DTEND;TZID=Europe/Brussels:20180415T160000Z
SUMMARY:Fibo
DESCRIPTION:https://www.google.com/maps/search/?api=1&query=Köln+Messe%2C+Messeplatz+1%2C+50679+Köln
END:VEVENT
END:VCALENDAR