BEGIN:VCALENDAR
VERSION:2.0
PRODID:-//InStaff und Jobs GmbH
BEGIN:VEVENT
UID:6b8bd2aa8edea9fdf762c5be101033e9@instaff.jobs
DTSTAMP:20260425T120627Z
LOCATION:Köln Messe\, Messeplatz 1\, 50679 Köln
DTSTART;TZID=Europe/Brussels:20180115T070000Z
DTEND;TZID=Europe/Brussels:20180121T160000Z
SUMMARY:imm cologne
DESCRIPTION:https://www.google.com/maps/search/?api=1&query=Köln+Messe%2C+Messeplatz+1%2C+50679+Köln
END:VEVENT
END:VCALENDAR