BEGIN:VCALENDAR
VERSION:2.0
PRODID:-//InStaff und Jobs GmbH
BEGIN:VEVENT
UID:b2fe4b9dc70a7bc5802fccb47c076991@instaff.jobs
DTSTAMP:20260419T160808Z
LOCATION:Theater und Konzerthaus Solingen\, Konrad-Adenauer-Straße 71\, 42651 Solingen
DTSTART;TZID=Europe/Brussels:20180310T070000Z
DTEND;TZID=Europe/Brussels:20180311T160000Z
SUMMARY:48 Solinger Autoschau
DESCRIPTION:https://www.google.com/maps/search/?api=1&query=Theater+und+Konzerthaus+Solingen%2C+Konrad-Adenauer-Straße+71%2C+42651+Solingen
END:VEVENT
END:VCALENDAR