BEGIN:VCALENDAR
VERSION:2.0
PRODID:-//InStaff und Jobs GmbH
BEGIN:VEVENT
UID:5d86b32de7d0e1a8f1eaf6b48cd434a1@instaff.jobs
DTSTAMP:20260425T104415Z
LOCATION:Messe Stuttgart\, Messepiazza 1\, 70629 Stuttgart
DTSTART;TZID=Europe/Brussels:20180605T070000Z
DTEND;TZID=Europe/Brussels:20180607T160000Z
SUMMARY:Automotive Testing Expo Europe 2018 in Stuttgart
DESCRIPTION:https://www.google.com/maps/search/?api=1&query=Messe+Stuttgart%2C+Messepiazza+1%2C+70629+Stuttgart
END:VEVENT
END:VCALENDAR