BEGIN:VCALENDAR
VERSION:2.0
PRODID:-//InStaff und Jobs GmbH
BEGIN:VEVENT
UID:fac4aaf410142f816763c34bba1d945c@instaff.jobs
DTSTAMP:20260425T104422Z
LOCATION:Haus der Wirtschaft\, Willi-Bleicher-Straße 19\, 70174 Stuttgart
DTSTART;TZID=Europe/Brussels:20180913T070000Z
DTEND;TZID=Europe/Brussels:20180915T160000Z
SUMMARY:Deutscher Hautkrebskongress 2018 in Stuttgart
DESCRIPTION:https://www.google.com/maps/search/?api=1&query=Haus+der+Wirtschaft%2C+Willi-Bleicher-Straße+19%2C+70174+Stuttgart
END:VEVENT
END:VCALENDAR