BEGIN:VCALENDAR
VERSION:2.0
PRODID:-//InStaff und Jobs GmbH
BEGIN:VEVENT
UID:6ca81c514b65d9aa251254cbbd7171e7@instaff.jobs
DTSTAMP:20260419T131752Z
LOCATION:Station Berlin\, Luckenwalder Str\. 4–6\, 10963 Berlin
DTSTART;TZID=Europe/Brussels:20191007T070000Z
DTEND;TZID=Europe/Brussels:20191009T160000Z
SUMMARY:BCB Bar Convent Berlin 2019
DESCRIPTION:https://www.google.com/maps/search/?api=1&query=Station+Berlin%2C+Luckenwalder+Str.+4–6%2C+10963+Berlin
END:VEVENT
END:VCALENDAR