BEGIN:VCALENDAR
VERSION:2.0
PRODID:-//InStaff und Jobs GmbH
BEGIN:VEVENT
UID:da0f66a90bb7039c2d0abf892eea9cf0@instaff.jobs
DTSTAMP:20260419T121741Z
LOCATION:HCC Hannover Congress Centrum\, Eilenriedehalle\, Theodor-Heuss-Platz 1-3\, 30175 Hannover
DTSTART;TZID=Europe/Brussels:20190913T070000Z
DTEND;TZID=Europe/Brussels:20190914T160000Z
SUMMARY:Lekkerland Messe 2019 in Hannover
DESCRIPTION:https://www.google.com/maps/search/?api=1&query=HCC+Hannover+Congress+Centrum%2C+Eilenriedehalle%2C+Theodor-Heuss-Platz+1-3%2C+30175+Hannover
END:VEVENT
END:VCALENDAR