BEGIN:VCALENDAR
VERSION:2.0
PRODID:-//InStaff und Jobs GmbH
BEGIN:VEVENT
UID:ad2afc52885591084db373b784580083@instaff.jobs
DTSTAMP:20260419T121545Z
LOCATION:Messe Nürnberg\, Messezentrum 1\, 90471 Nürnberg
DTSTART;TZID=Europe/Brussels:20190213T070000Z
DTEND;TZID=Europe/Brussels:20190216T160000Z
SUMMARY:BIOFACH 2019
DESCRIPTION:https://www.google.com/maps/search/?api=1&query=Messe+Nürnberg%2C+Messezentrum+1%2C+90471+Nürnberg
END:VEVENT
END:VCALENDAR