BEGIN:VCALENDAR
VERSION:2.0
PRODID:-//InStaff und Jobs GmbH
BEGIN:VEVENT
UID:1f7bd7c705e7e82eca51667d813ead99@instaff.jobs
DTSTAMP:20260425T214631Z
LOCATION:Talavera Wiesen\, Eingang\: Mainaustraße\, 97082 Würzburg
DTSTART;TZID=Europe/Brussels:20190928T070000Z
DTEND;TZID=Europe/Brussels:20191006T160000Z
SUMMARY:Mainfranken-Messe 2019
DESCRIPTION:https://www.google.com/maps/search/?api=1&query=Talavera+Wiesen%2C+Eingang:+Mainaustraße%2C+97082+Würzburg
END:VEVENT
END:VCALENDAR