BEGIN:VCALENDAR
VERSION:2.0
PRODID:-//InStaff und Jobs GmbH
BEGIN:VEVENT
UID:bb95158369cd6683cadf01e00268b97e@instaff.jobs
DTSTAMP:20260425T120651Z
LOCATION:Arena Berlin\, Eichenstraße 4\, 12435 Berlin
DTSTART;TZID=Europe/Brussels:20201013T070000Z
DTEND;TZID=Europe/Brussels:20201015T160000Z
SUMMARY:connecticum 2020
DESCRIPTION:https://www.google.com/maps/search/?api=1&query=Arena+Berlin%2C+Eichenstraße+4%2C+12435+Berlin
END:VEVENT
END:VCALENDAR