BEGIN:VCALENDAR
VERSION:2.0
PRODID:-//InStaff und Jobs GmbH
BEGIN:VEVENT
UID:9f9c91f57a8ff9bce02ced1c3e7f7623@instaff.jobs
DTSTAMP:20260425T104054Z
LOCATION:Mercure Hotel MOA Berlin\, Stephanstraße 41\, 10559 Berlin
DTSTART;TZID=Europe/Brussels:20200608T070000Z
DTEND;TZID=Europe/Brussels:20200611T160000Z
SUMMARY:DevOpsCon 2020 [VERSCHOBEN]
DESCRIPTION:https://www.google.com/maps/search/?api=1&query=Mercure+Hotel+MOA+Berlin%2C+Stephanstraße+41%2C+10559+Berlin
END:VEVENT
END:VCALENDAR