BEGIN:VCALENDAR
VERSION:2.0
PRODID:-//InStaff und Jobs GmbH
BEGIN:VEVENT
UID:11c43abafad0d87cb00595bd0c6706b1@instaff.jobs
DTSTAMP:20260425T120303Z
LOCATION:Mercure Hotel MOA Berlin\, Stephanstraße 41\, 10559 Berlin
DTSTART;TZID=Europe/Brussels:20201012T070000Z
DTEND;TZID=Europe/Brussels:20201015T160000Z
SUMMARY:DevOpsCon 2020
DESCRIPTION:https://www.google.com/maps/search/?api=1&query=Mercure+Hotel+MOA+Berlin%2C+Stephanstraße+41%2C+10559+Berlin
END:VEVENT
END:VCALENDAR