BEGIN:VCALENDAR
VERSION:2.0
PRODID:-//InStaff und Jobs GmbH
BEGIN:VEVENT
UID:7da37e0f486617ea194ecd5bf3a37fe5@instaff.jobs
DTSTAMP:20260425T120801Z
LOCATION:STATION BERLIN\, Luckenwalder Str\. 4-6\, 10963 Berlin
DTSTART;TZID=Europe/Brussels:20201019T070000Z
DTEND;TZID=Europe/Brussels:20201022T160000Z
SUMMARY:iGB Affiliate Berlin 2020
DESCRIPTION:https://www.google.com/maps/search/?api=1&query=STATION+BERLIN%2C+Luckenwalder+Str.+4-6%2C+10963+Berlin
END:VEVENT
END:VCALENDAR