BEGIN:VCALENDAR
VERSION:2.0
PRODID:-//InStaff und Jobs GmbH
BEGIN:VEVENT
UID:eec87e20cec2b3cd14f22a61bcbe8211@instaff.jobs
DTSTAMP:20260425T121046Z
LOCATION:Messe Berlin\, Messedamm 22\, 14055 Berlin
DTSTART;TZID=Europe/Brussels:20200922T070000Z
DTEND;TZID=Europe/Brussels:20200925T160000Z
SUMMARY:InnoTrans 2020 [VERSCHOBEN]
DESCRIPTION:https://www.google.com/maps/search/?api=1&query=Messe+Berlin%2C+Messedamm+22%2C+14055+Berlin
END:VEVENT
END:VCALENDAR