BEGIN:VCALENDAR
VERSION:2.0
PRODID:-//InStaff und Jobs GmbH
BEGIN:VEVENT
UID:97196786f31b4ee695a5028d533df5f4@instaff.jobs
DTSTAMP:20260425T120842Z
LOCATION:CityCube Berlin\, Messedamm 26\, 14055 Berlin
DTSTART;TZID=Europe/Brussels:20200313T070000Z
DTEND;TZID=Europe/Brussels:20200314T160000Z
SUMMARY:INTERPHARM 2020 [ABGESAGT]
DESCRIPTION:https://www.google.com/maps/search/?api=1&query=CityCube+Berlin%2C+Messedamm+26%2C+14055+Berlin
END:VEVENT
END:VCALENDAR