BEGIN:VCALENDAR
VERSION:2.0
PRODID:-//InStaff und Jobs GmbH
BEGIN:VEVENT
UID:35300ab9b345018bbeecd423182506ee@instaff.jobs
DTSTAMP:20260425T122156Z
LOCATION:Olympiastadion Berlin\, Olympischer Platz 3\, 14053 Berlin
DTSTART;TZID=Europe/Brussels:20200328T070000Z
DTEND;TZID=Europe/Brussels:20200328T160000Z
SUMMARY:Jobmesse Berlin 2020 [VERSCHOBEN]
DESCRIPTION:https://www.google.com/maps/search/?api=1&query=Olympiastadion+Berlin%2C+Olympischer+Platz+3%2C+14053+Berlin
END:VEVENT
END:VCALENDAR