BEGIN:VCALENDAR
VERSION:2.0
PRODID:-//InStaff und Jobs GmbH
BEGIN:VEVENT
UID:5edef2286a8e0168a8471aaccf444641@instaff.jobs
DTSTAMP:20260423T153536Z
LOCATION:Erlwein-Forum\, Messering 8\, 01067 Dresden
DTSTART;TZID=Europe/Brussels:20201017T070000Z
DTEND;TZID=Europe/Brussels:20201018T160000Z
SUMMARY:BABYWELT 2020 Dresden [ABGESAGT]
DESCRIPTION:https://www.google.com/maps/search/?api=1&query=Erlwein-Forum%2C+Messering+8%2C+01067+Dresden
END:VEVENT
END:VCALENDAR