BEGIN:VCALENDAR
VERSION:2.0
PRODID:-//InStaff und Jobs GmbH
BEGIN:VEVENT
UID:4876b09886f97e4c951fc801c912a67d@instaff.jobs
DTSTAMP:20260425T104422Z
LOCATION:Erlwein-Forum\, Messering 8\, 01067 Dresden
DTSTART;TZID=Europe/Brussels:20200606T070000Z
DTEND;TZID=Europe/Brussels:20200607T160000Z
SUMMARY:BABYWELT 2020 Dresden [VERSCHOBEN]
DESCRIPTION:https://www.google.com/maps/search/?api=1&query=Erlwein-Forum%2C+Messering+8%2C+01067+Dresden
END:VEVENT
END:VCALENDAR