BEGIN:VCALENDAR
VERSION:2.0
PRODID:-//InStaff und Jobs GmbH
BEGIN:VEVENT
UID:0bb2a51e837656a00418befe7cede78a@instaff.jobs
DTSTAMP:20260423T153520Z
LOCATION:Erlwein-Forum\, Messering 8\, 01067 Dresden
DTSTART;TZID=Europe/Brussels:20200314T070000Z
DTEND;TZID=Europe/Brussels:20200315T160000Z
SUMMARY:BABYWELT Dresden 2020 [VERSCHOBEN]
DESCRIPTION:https://www.google.com/maps/search/?api=1&query=Erlwein-Forum%2C+Messering+8%2C+01067+Dresden
END:VEVENT
END:VCALENDAR