BEGIN:VCALENDAR
VERSION:2.0
PRODID:-//InStaff und Jobs GmbH
BEGIN:VEVENT
UID:c82865e4c8528bfb3d5e381c2d12fd7d@instaff.jobs
DTSTAMP:20260425T104513Z
LOCATION:Kfz-Prüfstelle Frankfurt\/Main\, Klassikstadt\/ FSP Prüfstelle\/ Partner des TÜV Rheinland\, Orber Str\. 4a\, 60386 Frankfurt am Main
DTSTART;TZID=Europe/Brussels:20200517T070000Z
DTEND;TZID=Europe/Brussels:20200517T160000Z
SUMMARY:Frankfurter Automobilausstellung 2020 [VERSCHOBEN]
DESCRIPTION:https://www.google.com/maps/search/?api=1&query=Kfz-Prüfstelle+Frankfurt/Main%2C+Klassikstadt/+FSP+Prüfstelle/+Partner+des+TÜV+Rheinland%2C+Orber+Str.+4a%2C+60386+Frankfurt+am+Main
END:VEVENT
END:VCALENDAR