BEGIN:VCALENDAR
VERSION:2.0
PRODID:-//InStaff und Jobs GmbH
BEGIN:VEVENT
UID:d3a639e664febf64dedb6f83f45f73a4@instaff.jobs
DTSTAMP:20260425T104257Z
LOCATION:Messe Frankfurt\, Ludwig-Erhard-Anlage 1\, 60327 Frankfurt am Main
DTSTART;TZID=Europe/Brussels:20201014T070000Z
DTEND;TZID=Europe/Brussels:20201018T160000Z
SUMMARY:Frankfurter Buchmesse 2020
DESCRIPTION:https://www.google.com/maps/search/?api=1&query=Messe+Frankfurt%2C+Ludwig-Erhard-Anlage+1%2C+60327+Frankfurt+am+Main
END:VEVENT
END:VCALENDAR