BEGIN:VCALENDAR
VERSION:2.0
PRODID:-//InStaff und Jobs GmbH
BEGIN:VEVENT
UID:52a7057cd478c8e7f0d25b83907b887d@instaff.jobs
DTSTAMP:20260425T104332Z
LOCATION:Messe Frankfurt\, Ludwig-Erhard-Anlage 1\, 60327 Frankfurt am Main
DTSTART;TZID=Europe/Brussels:20200512T070000Z
DTEND;TZID=Europe/Brussels:20200514T160000Z
SUMMARY:IMEX 2020 [ABGESAGT]
DESCRIPTION:https://www.google.com/maps/search/?api=1&query=Messe+Frankfurt%2C+Ludwig-Erhard-Anlage+1%2C+60327+Frankfurt+am+Main
END:VEVENT
END:VCALENDAR