BEGIN:VCALENDAR
VERSION:2.0
PRODID:-//InStaff und Jobs GmbH
BEGIN:VEVENT
UID:0db93097d3aeac76ecfc767a31f4dc09@instaff.jobs
DTSTAMP:20260425T110943Z
LOCATION:Jahrhunderthalle\, Pfaffenwiese 301\, 65929 Frankfurt am Main
DTSTART;TZID=Europe/Brussels:20201021T070000Z
DTEND;TZID=Europe/Brussels:20201021T160000Z
SUMMARY:Jobmesse Frankfurt 2020
DESCRIPTION:https://www.google.com/maps/search/?api=1&query=Jahrhunderthalle%2C+Pfaffenwiese+301%2C+65929+Frankfurt+am+Main
END:VEVENT
END:VCALENDAR