BEGIN:VCALENDAR
VERSION:2.0
PRODID:-//InStaff und Jobs GmbH
BEGIN:VEVENT
UID:5631ce38e12c13173e0529164fdc873d@instaff.jobs
DTSTAMP:20260425T104258Z
LOCATION:Messe Friedrichshafen\, Neue Messe 1\, 88046 Friedrichshafen
DTSTART;TZID=Europe/Brussels:20201013T070000Z
DTEND;TZID=Europe/Brussels:20201017T160000Z
SUMMARY:Fakuma 2020
DESCRIPTION:https://www.google.com/maps/search/?api=1&query=Messe+Friedrichshafen%2C+Neue+Messe+1%2C+88046+Friedrichshafen
END:VEVENT
END:VCALENDAR