BEGIN:VCALENDAR
VERSION:2.0
PRODID:-//InStaff und Jobs GmbH
BEGIN:VEVENT
UID:dd2e936ea4875c49347a86c0369a93f1@instaff.jobs
DTSTAMP:20260424T085118Z
LOCATION:ERDGAS Sportarena\, Nietlebener Str\. 16\, 06122 Halle \(Saale\)
DTSTART;TZID=Europe/Brussels:20201010T070000Z
DTEND;TZID=Europe/Brussels:20201010T160000Z
SUMMARY:Jobmesse Halle 2020
DESCRIPTION:https://www.google.com/maps/search/?api=1&query=ERDGAS+Sportarena%2C+Nietlebener+Str.+16%2C+06122+Halle+(Saale)
END:VEVENT
END:VCALENDAR