BEGIN:VCALENDAR
VERSION:2.0
PRODID:-//InStaff und Jobs GmbH
BEGIN:VEVENT
UID:1a076f9d7bf81918ac4f50af417f62bb@instaff.jobs
DTSTAMP:20260421T221800Z
LOCATION:Hamburg Messe\, Messeplatz 1\, 20357 Hamburg
DTSTART;TZID=Europe/Brussels:20200205T070000Z
DTEND;TZID=Europe/Brussels:20200209T160000Z
SUMMARY:KREUZFAHRTWELT HAMBURG 2020
DESCRIPTION:https://www.google.com/maps/search/?api=1&query=Hamburg+Messe%2C+Messeplatz+1%2C+20357+Hamburg
END:VEVENT
END:VCALENDAR