BEGIN:VCALENDAR
VERSION:2.0
PRODID:-//InStaff und Jobs GmbH
BEGIN:VEVENT
UID:f4bd5d096cae3bb9ca866aca6a631ca9@instaff.jobs
DTSTAMP:20260425T133435Z
LOCATION:Kongresszentrum Karlsruhe\, Gartenhalle Festplatz 2\, 76137 Karlsruhe
DTSTART;TZID=Europe/Brussels:20200130T070000Z
DTEND;TZID=Europe/Brussels:20200201T160000Z
SUMMARY:ANIM 2020
DESCRIPTION:https://www.google.com/maps/search/?api=1&query=Kongresszentrum+Karlsruhe%2C+Gartenhalle+Festplatz+2%2C+76137+Karlsruhe
END:VEVENT
END:VCALENDAR