BEGIN:VCALENDAR
VERSION:2.0
PRODID:-//InStaff und Jobs GmbH
BEGIN:VEVENT
UID:52f78a6a39b015c3f29e281524062749@instaff.jobs
DTSTAMP:20260425T104332Z
LOCATION:Congress Center Leipzig\, Seehausener Allee 1\, 04356 Leipzig
DTSTART;TZID=Europe/Brussels:20200912T070000Z
DTEND;TZID=Europe/Brussels:20200912T160000Z
SUMMARY:Jobmesse Leipzig 2020
DESCRIPTION:https://www.google.com/maps/search/?api=1&query=Congress+Center+Leipzig%2C+Seehausener+Allee+1%2C+04356+Leipzig
END:VEVENT
END:VCALENDAR