BEGIN:VCALENDAR
VERSION:2.0
PRODID:-//InStaff und Jobs GmbH
BEGIN:VEVENT
UID:1e9e083859c6816a527adae8d5eab81f@instaff.jobs
DTSTAMP:20260425T104938Z
LOCATION:Leipziger Messe\, Messe-Allee 1\, 04356 Leipzig
DTSTART;TZID=Europe/Brussels:20201002T070000Z
DTEND;TZID=Europe/Brussels:20201004T160000Z
SUMMARY:modell-hobby-spiel 2020 [ABGESAGT]
DESCRIPTION:https://www.google.com/maps/search/?api=1&query=Leipziger+Messe%2C+Messe-Allee+1%2C+04356+Leipzig
END:VEVENT
END:VCALENDAR