BEGIN:VCALENDAR
VERSION:2.0
PRODID:-//InStaff und Jobs GmbH
BEGIN:VEVENT
UID:3ea946f8acdd6a59f461e87bdd825079@instaff.jobs
DTSTAMP:20260425T122207Z
LOCATION:Holiday Inn Munich City Center\, Hochstraße 3\, 81669 München
DTSTART;TZID=Europe/Brussels:20200319T070000Z
DTEND;TZID=Europe/Brussels:20200320T160000Z
SUMMARY:Alterstraumatologie Kongress 2020 [VERSCHOBEN]
DESCRIPTION:https://www.google.com/maps/search/?api=1&query=Holiday+Inn+Munich+City+Center%2C+Hochstraße+3%2C+81669+München
END:VEVENT
END:VCALENDAR