BEGIN:VCALENDAR
VERSION:2.0
PRODID:-//InStaff und Jobs GmbH
BEGIN:VEVENT
UID:f52cb175045a9a91feb546993eb90382@instaff.jobs
DTSTAMP:20260425T120922Z
LOCATION:Messe München\, Messegelände\, 81823 München
DTSTART;TZID=Europe/Brussels:20200331T070000Z
DTEND;TZID=Europe/Brussels:20200403T160000Z
SUMMARY:analytica 2020 [VERSCHOBEN]
DESCRIPTION:https://www.google.com/maps/search/?api=1&query=Messe+München%2C+Messegelände%2C+81823+München
END:VEVENT
END:VCALENDAR