BEGIN:VCALENDAR
VERSION:2.0
PRODID:-//InStaff und Jobs GmbH
BEGIN:VEVENT
UID:bad20dbe040462dc144707c25d1fc0fc@instaff.jobs
DTSTAMP:20260425T121003Z
LOCATION:Messe München\, Messegelände\, 81823 München
DTSTART;TZID=Europe/Brussels:20200310T070000Z
DTEND;TZID=Europe/Brussels:20200311T160000Z
SUMMARY:CMCX 2020 [ABGESAGT]
DESCRIPTION:https://www.google.com/maps/search/?api=1&query=Messe+München%2C+Messegelände%2C+81823+München
END:VEVENT
END:VCALENDAR