BEGIN:VCALENDAR
VERSION:2.0
PRODID:-//InStaff und Jobs GmbH
BEGIN:VEVENT
UID:e4000186c3a530cd53f2ec6f7a899bca@instaff.jobs
DTSTAMP:20260425T120737Z
LOCATION:Messe München\, Messegelände\, 81823 München
DTSTART;TZID=Europe/Brussels:20200219T070000Z
DTEND;TZID=Europe/Brussels:20200223T160000Z
SUMMARY:f re e 2020
DESCRIPTION:https://www.google.com/maps/search/?api=1&query=Messe+München%2C+Messegelände%2C+81823+München
END:VEVENT
END:VCALENDAR