BEGIN:VCALENDAR
VERSION:2.0
PRODID:-//InStaff und Jobs GmbH
BEGIN:VEVENT
UID:2b90ea19ec0a4adfc4653f8e52aaf18f@instaff.jobs
DTSTAMP:20260425T122208Z
LOCATION:Messe München\, Messegelände\, 81823 München
DTSTART;TZID=Europe/Brussels:20200311T070000Z
DTEND;TZID=Europe/Brussels:20200315T160000Z
SUMMARY:IHM - Internationale Handwerksmesse 2020 [ABGESAGT]
DESCRIPTION:https://www.google.com/maps/search/?api=1&query=Messe+München%2C+Messegelände%2C+81823+München
END:VEVENT
END:VCALENDAR