BEGIN:VCALENDAR
VERSION:2.0
PRODID:-//InStaff und Jobs GmbH
BEGIN:VEVENT
UID:1d3bb9b3fa71c1bd2cf023d82259829f@instaff.jobs
DTSTAMP:20260425T120736Z
LOCATION:MOC\, Lilienthalallee 40\, 80939 München
DTSTART;TZID=Europe/Brussels:20200214T070000Z
DTEND;TZID=Europe/Brussels:20200216T160000Z
SUMMARY:IMOT 2020
DESCRIPTION:https://www.google.com/maps/search/?api=1&query=MOC%2C+Lilienthalallee+40%2C+80939+München
END:VEVENT
END:VCALENDAR